BEGIN:VCALENDAR
VERSION:2.0
PRODID:-//wp-events-plugin.com//7.2.3.1//EN
BEGIN:VEVENT
UID:99@agendadeinavigli.it
DTSTART;TZID=Europe/Rome;VALUE=DATE:20250301
DTEND;TZID=Europe/Rome;VALUE=DATE:20250303
DTSTAMP:20250220T222257Z
URL:https://agendadeinavigli.it/eventi/castano-primo-castano-citta-aperta/
SUMMARY:Castano Primo - Castano città aperta
DESCRIPTION:1-2-marzo\n\nCastano città aperta\n\nMuseo e Villa Rusconi
CATEGORIES:evento culturale
LOCATION:villa rusconi\, Via Palestro 6\, Castano Primo\, MI\, 20022\, Ital
 ia
X-APPLE-STRUCTURED-LOCATION;VALUE=URI;X-ADDRESS=Via Palestro 6\, Castano Pr
 imo\, MI\, 20022\, Italia;X-APPLE-RADIUS=100;X-TITLE=villa rusconi:geo:0,0
END:VEVENT
BEGIN:VTIMEZONE
TZID:Europe/Rome
X-LIC-LOCATION:Europe/Rome
BEGIN:STANDARD
DTSTART:20241027T020000
TZOFFSETFROM:+0200
TZOFFSETTO:+0100
TZNAME:CET
END:STANDARD
END:VTIMEZONE
END:VCALENDAR