BEGIN:VCALENDAR
VERSION:2.0
PRODID:-//wp-events-plugin.com//7.2.3.1//EN
BEGIN:VEVENT
UID:339@agendadeinavigli.it
DTSTART;TZID=Europe/Rome:20250705T000000
DTEND;TZID=Europe/Rome:20250705T000000
DTSTAMP:20250704T091336Z
URL:https://agendadeinavigli.it/eventi/cuggiono-aperitivo-al-parco/
SUMMARY:Cuggiono - Aperitivo al parco
DESCRIPTION:Aperitivo nel parco\n\nSabato 5 luglio\n\nAssociazione Il parco
  di Alessandro Annoni\n\nCOMUNE-CUGGIONO_estate2025_Manifesto-70x100
ATTACH;FMTTYPE=image/jpeg:https://agendadeinavigli.it/wp-content/uploads/2
 025/07/skewers-1206687_640.webp
CATEGORIES:enogastronomico
END:VEVENT
BEGIN:VTIMEZONE
TZID:Europe/Rome
X-LIC-LOCATION:Europe/Rome
BEGIN:DAYLIGHT
DTSTART:20250330T030000
TZOFFSETFROM:+0100
TZOFFSETTO:+0200
TZNAME:CEST
END:DAYLIGHT
END:VTIMEZONE
END:VCALENDAR