BEGIN:VCALENDAR
VERSION:2.0
PRODID:-//wp-events-plugin.com//7.2.3.1//EN
BEGIN:VEVENT
UID:48@agendadeinavigli.it
DTSTART;TZID=Europe/Rome:20250525T090000
DTEND;TZID=Europe/Rome:20250525T180000
DTSTAMP:20250519T153016Z
URL:https://agendadeinavigli.it/eventi/cuggiono-liberi-libri/
SUMMARY:Cuggiono - Liberi libri
DESCRIPTION:25 maggio\n\nLiberi libri\n\nVilla Annoni (Piazza 25 Aprile)\n\
 nFai la spesa di cultura. Acquisti all'inizio del percorso una borsa di di
 mensioni diverse che puoi riempire di libri esposti che ti interessano\n\n
 Paghi la borsa e non i libri.\n\nTra le finalità dell'iniziativa il soste
 gno a progetti solidali\n\n
ATTACH;FMTTYPE=image/jpeg:https://agendadeinavigli.it/wp-content/uploads/2
 025/02/books-5211309_640.webp
CATEGORIES:evento culturale
LOCATION:Villa Annoni\, Piazza XXV Aprile\, 4\, Cuggiono\, 20012\, Italia
X-APPLE-STRUCTURED-LOCATION;VALUE=URI;X-ADDRESS=Piazza XXV Aprile\, 4\, Cug
 giono\, 20012\, Italia;X-APPLE-RADIUS=100;X-TITLE=Villa Annoni:geo:0,0
END:VEVENT
BEGIN:VTIMEZONE
TZID:Europe/Rome
X-LIC-LOCATION:Europe/Rome
BEGIN:DAYLIGHT
DTSTART:20250330T030000
TZOFFSETFROM:+0100
TZOFFSETTO:+0200
TZNAME:CEST
END:DAYLIGHT
END:VTIMEZONE
END:VCALENDAR