BEGIN:VCALENDAR
VERSION:2.0
PRODID:-//wp-events-plugin.com//7.2.3.1//EN
BEGIN:VEVENT
UID:165@agendadeinavigli.it
DTSTART;TZID=Europe/Rome:20250406T090000
DTEND;TZID=Europe/Rome:20250406T190000
DTSTAMP:20250324T161740Z
URL:https://agendadeinavigli.it/eventi/cusago-cusago-crea/
SUMMARY:Cusago - Cusago crea
DESCRIPTION:06/04\n\nCUSAGO CREA\n\n6 aprile – IL FESTIVAL DELL’HANDMAD
 E UN MONDO DI CREATIVITà A PORTATA DI MANO.\n\n 	Oltre 75 professionisti 
 dell’handmade in azione. Ci saranno laboratori creativi\, spettacoli e t
 anto altro ancora. Presso il Castello di Cusago\n 	Mago Luca in Corte Mado
 nnina alle 15:30 e alle 17:00\n 	Laboratorio dalle 14:30\n 	gioco dell’o
 ca vivente alle 16:00\n 	Visita guidata gratuita al castello all’interno
  dell’evento “Cusago crea”\n\n
ATTACH;FMTTYPE=image/jpeg:https://agendadeinavigli.it/wp-content/uploads/2
 025/02/watercolor-4116932_640-png.webp
CATEGORIES:evento culturale
END:VEVENT
BEGIN:VTIMEZONE
TZID:Europe/Rome
X-LIC-LOCATION:Europe/Rome
BEGIN:DAYLIGHT
DTSTART:20250330T030000
TZOFFSETFROM:+0100
TZOFFSETTO:+0200
TZNAME:CEST
END:DAYLIGHT
END:VTIMEZONE
END:VCALENDAR