BEGIN:VCALENDAR
VERSION:2.0
PRODID:-//wp-events-plugin.com//7.2.3.1//EN
BEGIN:VEVENT
UID:204@agendadeinavigli.it
DTSTART;TZID=Europe/Rome:20251208T000000
DTEND;TZID=Europe/Rome:20251208T000000
DTSTAMP:20250221T160942Z
URL:https://agendadeinavigli.it/eventi/inveruno-accensione-albero-di-natal
 e/
SUMMARY:Inveruno - Accensione albero di Natale
DESCRIPTION:08 dicembre\n\nAccensione albero di Natale\n\nPresso Piazza San
  Martino
ATTACH;FMTTYPE=image/jpeg:https://agendadeinavigli.it/wp-content/uploads/2
 025/02/christmas-145319_640-png.webp
CATEGORIES:Natale
LOCATION:Piazza San Martino\, Inveruno\, Piazza San Martino\, Inveruno\, 20
 010\, Italia
X-APPLE-STRUCTURED-LOCATION;VALUE=URI;X-ADDRESS=Piazza San Martino\, Inveru
 no\, 20010\, Italia;X-APPLE-RADIUS=100;X-TITLE=Piazza San Martino\, Inveru
 no:geo:0,0
END:VEVENT
BEGIN:VTIMEZONE
TZID:Europe/Rome
X-LIC-LOCATION:Europe/Rome
BEGIN:STANDARD
DTSTART:20251026T020000
TZOFFSETFROM:+0200
TZOFFSETTO:+0100
TZNAME:CET
END:STANDARD
END:VTIMEZONE
END:VCALENDAR