BEGIN:VCALENDAR
VERSION:2.0
PRODID:-//wp-events-plugin.com//7.2.3.1//EN
BEGIN:VEVENT
UID:216@agendadeinavigli.it
DTSTART;TZID=Europe/Rome:20250308T000000
DTEND;TZID=Europe/Rome:20250308T000000
DTSTAMP:20250221T162740Z
URL:https://agendadeinavigli.it/eventi/ozzero-carnevale/
SUMMARY:Ozzero - Carnevale
DESCRIPTION:08 marzo\n\nFesta di carnevale - sfilata carri allegorici\n\nPe
 r le vie del paese
ATTACH;FMTTYPE=image/jpeg:https://agendadeinavigli.it/wp-content/uploads/2
 025/02/streamer-3088458_640.webp
CATEGORIES:Carnevale
END:VEVENT
BEGIN:VTIMEZONE
TZID:Europe/Rome
X-LIC-LOCATION:Europe/Rome
BEGIN:STANDARD
DTSTART:20241027T020000
TZOFFSETFROM:+0200
TZOFFSETTO:+0100
TZNAME:CET
END:STANDARD
END:VTIMEZONE
END:VCALENDAR